Package: RVS Version: 1.26.0 Command: /Library/Frameworks/R.framework/Resources/bin/R CMD build --keep-empty-dirs --no-resave-data RVS StartedAt: 2024-10-17 08:10:08 -0400 (Thu, 17 Oct 2024) EndedAt: 2024-10-17 08:12:52 -0400 (Thu, 17 Oct 2024) EllapsedTime: 164.3 seconds RetCode: 0 Status: OK PackageFile: RVS_1.26.0.tar.gz PackageFileSize: 576.1 KiB