Package: RVS Version: 1.26.0 Command: rm -rf RVS.buildbin-libdir && mkdir RVS.buildbin-libdir && /Users/biocbuild/BBS/utils/build-universal.sh RVS_1.26.0.tar.gz /Library/Frameworks/R.framework/Resources/bin/R RVS.buildbin-libdir StartedAt: 2024-10-15 20:03:44 -0400 (Tue, 15 Oct 2024) EndedAt: 2024-10-15 20:03:59 -0400 (Tue, 15 Oct 2024) EllapsedTime: 14.8 seconds RetCode: 0 Status: OK PackageFile: RVS_1.26.0.tgz PackageFileSize: 699.4 KiB