Package: RUVnormalize Version: 1.38.0 Command: rm -rf RUVnormalize.buildbin-libdir && mkdir RUVnormalize.buildbin-libdir && E:\biocbuild\bbs-3.19-bioc\R\bin\R.exe CMD INSTALL --build --library=RUVnormalize.buildbin-libdir RUVnormalize_1.38.0.tar.gz StartedAt: 2024-10-17 08:32:56 -0400 (Thu, 17 Oct 2024) EndedAt: 2024-10-17 08:33:06 -0400 (Thu, 17 Oct 2024) EllapsedTime: 10.4 seconds RetCode: 0 Status: OK PackageFile: RUVnormalize_1.38.0.zip PackageFileSize: 227.6 KiB