Package: RUVnormalize Version: 1.38.0 Command: chmod a+r RUVnormalize -R && F:\biocbuild\bbs-3.19-bioc\R\bin\R.exe CMD build --keep-empty-dirs --no-resave-data RUVnormalize StartedAt: 2024-06-26 21:35:06 -0400 (Wed, 26 Jun 2024) EndedAt: 2024-06-26 21:36:09 -0400 (Wed, 26 Jun 2024) EllapsedTime: 62.8 seconds RetCode: 0 Status: OK PackageFile: RUVnormalize_1.38.0.tar.gz PackageFileSize: 192.3 KiB