Package: RUVnormalize Version: 1.38.0 Command: /home/biocbuild/bbs-3.19-bioc/R/bin/R CMD build --keep-empty-dirs --no-resave-data RUVnormalize StartedAt: 2024-10-16 20:35:13 -0400 (Wed, 16 Oct 2024) EndedAt: 2024-10-16 20:35:26 -0400 (Wed, 16 Oct 2024) EllapsedTime: 13.0 seconds RetCode: 0 Status: OK PackageFile: RUVnormalize_1.38.0.tar.gz PackageFileSize: 191.3 KiB