Package: RUVnormalize Version: 1.38.0 Command: /Library/Frameworks/R.framework/Resources/bin/R CMD check --install=check:RUVnormalize.install-out.txt --library=/Library/Frameworks/R.framework/Resources/library --no-vignettes --timings RUVnormalize_1.38.0.tar.gz StartedAt: 2024-06-11 03:59:05 -0400 (Tue, 11 Jun 2024) EndedAt: 2024-06-11 04:00:17 -0400 (Tue, 11 Jun 2024) EllapsedTime: 72.5 seconds RetCode: 0 Status: OK CheckDir: RUVnormalize.Rcheck Warnings: 0