Package: RUVnormalize Version: 1.38.0 Command: /Library/Frameworks/R.framework/Resources/bin/R CMD build --keep-empty-dirs --no-resave-data RUVnormalize StartedAt: 2024-06-10 03:53:13 -0400 (Mon, 10 Jun 2024) EndedAt: 2024-06-10 03:53:48 -0400 (Mon, 10 Jun 2024) EllapsedTime: 35.1 seconds RetCode: 0 Status: OK PackageFile: RUVnormalize_1.38.0.tar.gz PackageFileSize: 190.7 KiB