Package: RUVcorr Version: 1.36.0 Command: E:\biocbuild\bbs-3.19-bioc\R\bin\R.exe CMD INSTALL RUVcorr StartedAt: 2024-10-16 16:17:29 -0400 (Wed, 16 Oct 2024) EndedAt: 2024-10-16 16:17:46 -0400 (Wed, 16 Oct 2024) EllapsedTime: 16.2 seconds RetCode: 0 Status: OK