Package: RUVcorr Version: 1.36.0 Command: rm -rf RUVcorr.buildbin-libdir && mkdir RUVcorr.buildbin-libdir && E:\biocbuild\bbs-3.19-bioc\R\bin\R.exe CMD INSTALL --build --library=RUVcorr.buildbin-libdir RUVcorr_1.36.0.tar.gz StartedAt: 2024-10-17 08:32:52 -0400 (Thu, 17 Oct 2024) EndedAt: 2024-10-17 08:33:13 -0400 (Thu, 17 Oct 2024) EllapsedTime: 21.1 seconds RetCode: 0 Status: OK PackageFile: RUVcorr_1.36.0.zip PackageFileSize: 277.5 KiB