Package: RUVcorr Version: 1.36.0 Command: chmod a+r RUVcorr -R && F:\biocbuild\bbs-3.19-bioc\R\bin\R.exe CMD build --keep-empty-dirs --no-resave-data RUVcorr StartedAt: 2024-06-26 21:35:04 -0400 (Wed, 26 Jun 2024) EndedAt: 2024-06-26 21:36:47 -0400 (Wed, 26 Jun 2024) EllapsedTime: 103.2 seconds RetCode: 0 Status: OK PackageFile: RUVcorr_1.36.0.tar.gz PackageFileSize: 150.1 KiB