Package: RUVcorr Version: 1.36.0 Command: rm -rf RUVcorr.buildbin-libdir && mkdir RUVcorr.buildbin-libdir && F:\biocbuild\bbs-3.19-bioc\R\bin\R.exe CMD INSTALL --build --library=RUVcorr.buildbin-libdir RUVcorr_1.36.0.tar.gz StartedAt: 2024-06-27 08:50:40 -0400 (Thu, 27 Jun 2024) EndedAt: 2024-06-27 08:50:52 -0400 (Thu, 27 Jun 2024) EllapsedTime: 11.9 seconds RetCode: 0 Status: OK PackageFile: RUVcorr_1.36.0.zip PackageFileSize: 277.2 KiB