Package: RUVcorr Version: 1.36.0 Command: /home/biocbuild/bbs-3.19-bioc/R/bin/R CMD build --keep-empty-dirs --no-resave-data RUVcorr StartedAt: 2024-10-16 20:35:01 -0400 (Wed, 16 Oct 2024) EndedAt: 2024-10-16 20:35:45 -0400 (Wed, 16 Oct 2024) EllapsedTime: 43.1 seconds RetCode: 0 Status: OK PackageFile: RUVcorr_1.36.0.tar.gz PackageFileSize: 495.6 KiB