Package: RUVcorr Version: 1.36.0 Command: /Library/Frameworks/R.framework/Resources/bin/R CMD build --keep-empty-dirs --no-resave-data RUVcorr StartedAt: 2024-10-16 22:49:00 -0400 (Wed, 16 Oct 2024) EndedAt: 2024-10-16 22:50:38 -0400 (Wed, 16 Oct 2024) EllapsedTime: 98.1 seconds RetCode: 0 Status: OK PackageFile: RUVcorr_1.36.0.tar.gz PackageFileSize: 672.3 KiB