Package: RUVcorr Version: 1.36.0 Command: /home/biocbuild/R/R-beta-2024-04-15_r86425/bin/R CMD build --keep-empty-dirs --no-resave-data RUVcorr StartedAt: 2024-05-09 03:14:04 -0000 (Thu, 09 May 2024) EndedAt: 2024-05-09 03:28:13 -0000 (Thu, 09 May 2024) EllapsedTime: 849.1 seconds RetCode: 0 Status: OK PackageFile: RUVcorr_1.36.0.tar.gz PackageFileSize: 244.5 KiB