Package: RUVSeq Version: 1.38.0 Command: rm -rf RUVSeq.buildbin-libdir && mkdir RUVSeq.buildbin-libdir && E:\biocbuild\bbs-3.19-bioc\R\bin\R.exe CMD INSTALL --build --library=RUVSeq.buildbin-libdir RUVSeq_1.38.0.tar.gz StartedAt: 2024-10-17 08:33:04 -0400 (Thu, 17 Oct 2024) EndedAt: 2024-10-17 08:33:47 -0400 (Thu, 17 Oct 2024) EllapsedTime: 42.8 seconds RetCode: 0 Status: OK PackageFile: RUVSeq_1.38.0.zip PackageFileSize: 356.4 KiB