Package: RUVSeq Version: 1.38.0 Command: chmod a+r RUVSeq -R && F:\biocbuild\bbs-3.19-bioc\R\bin\R.exe CMD build --keep-empty-dirs --no-resave-data RUVSeq StartedAt: 2024-06-26 21:35:34 -0400 (Wed, 26 Jun 2024) EndedAt: 2024-06-26 21:37:16 -0400 (Wed, 26 Jun 2024) EllapsedTime: 101.9 seconds RetCode: 0 Status: OK PackageFile: RUVSeq_1.38.0.tar.gz PackageFileSize: 311.5 KiB