Package: RUVSeq Version: 1.38.0 Command: /home/biocbuild/bbs-3.19-bioc/R/bin/R CMD build --keep-empty-dirs --no-resave-data RUVSeq StartedAt: 2024-10-16 20:35:15 -0400 (Wed, 16 Oct 2024) EndedAt: 2024-10-16 20:36:52 -0400 (Wed, 16 Oct 2024) EllapsedTime: 96.3 seconds RetCode: 0 Status: OK PackageFile: RUVSeq_1.38.0.tar.gz PackageFileSize: 451.7 KiB