Package: RUVSeq Version: 1.38.0 Command: /Library/Frameworks/R.framework/Resources/bin/R CMD build --keep-empty-dirs --no-resave-data RUVSeq StartedAt: 2024-10-16 22:49:09 -0400 (Wed, 16 Oct 2024) EndedAt: 2024-10-16 22:53:26 -0400 (Wed, 16 Oct 2024) EllapsedTime: 257.3 seconds RetCode: 0 Status: OK PackageFile: RUVSeq_1.38.0.tar.gz PackageFileSize: 495.8 KiB