Package: RUVSeq Version: 1.38.0 Command: /Library/Frameworks/R.framework/Resources/bin/R CMD check --install=check:RUVSeq.install-out.txt --library=/Library/Frameworks/R.framework/Resources/library --no-vignettes --timings RUVSeq_1.38.0.tar.gz StartedAt: 2024-06-09 22:46:43 -0400 (Sun, 09 Jun 2024) EndedAt: 2024-06-09 22:52:16 -0400 (Sun, 09 Jun 2024) EllapsedTime: 333.1 seconds RetCode: 0 Status: OK CheckDir: RUVSeq.Rcheck Warnings: 0