Package: RUVSeq Version: 1.38.0 Command: rm -rf RUVSeq.buildbin-libdir && mkdir RUVSeq.buildbin-libdir && /Users/biocbuild/BBS/utils/build-universal.sh RUVSeq_1.38.0.tar.gz /Library/Frameworks/R.framework/Resources/bin/R RUVSeq.buildbin-libdir StartedAt: 2024-10-15 20:03:31 -0400 (Tue, 15 Oct 2024) EndedAt: 2024-10-15 20:04:30 -0400 (Tue, 15 Oct 2024) EllapsedTime: 59.6 seconds RetCode: 0 Status: OK PackageFile: RUVSeq_1.38.0.tgz PackageFileSize: 535.9 KiB