Package: RTopper Version: 1.50.0 Command: chmod a+r RTopper -R && E:\biocbuild\bbs-3.19-bioc\R\bin\R.exe CMD build --keep-empty-dirs --no-resave-data RTopper StartedAt: 2024-10-16 21:39:11 -0400 (Wed, 16 Oct 2024) EndedAt: 2024-10-16 21:40:40 -0400 (Wed, 16 Oct 2024) EllapsedTime: 89.2 seconds RetCode: 0 Status: OK PackageFile: RTopper_1.50.0.tar.gz PackageFileSize: 1.207 MiB