Package: RTopper Version: 1.50.0 Command: F:\biocbuild\bbs-3.19-bioc\R\bin\R.exe CMD check --no-multiarch --install=check:RTopper.install-out.txt --library=F:\biocbuild\bbs-3.19-bioc\R\library --no-vignettes --timings RTopper_1.50.0.tar.gz StartedAt: 2024-06-27 05:40:23 -0400 (Thu, 27 Jun 2024) EndedAt: 2024-06-27 05:41:54 -0400 (Thu, 27 Jun 2024) EllapsedTime: 90.9 seconds RetCode: 0 Status: OK CheckDir: RTopper.Rcheck Warnings: 0