Package: RTopper Version: 1.50.0 Command: /Library/Frameworks/R.framework/Resources/bin/R CMD build --keep-empty-dirs --no-resave-data RTopper StartedAt: 2024-10-16 22:47:46 -0400 (Wed, 16 Oct 2024) EndedAt: 2024-10-16 22:50:30 -0400 (Wed, 16 Oct 2024) EllapsedTime: 163.8 seconds RetCode: 0 Status: OK PackageFile: RTopper_1.50.0.tar.gz PackageFileSize: 1.349 MiB