Package: RTopper Version: 1.50.0 Command: /Library/Frameworks/R.framework/Resources/bin/R CMD build --keep-empty-dirs --no-resave-data RTopper StartedAt: 2024-06-09 18:00:14 -0400 (Sun, 09 Jun 2024) EndedAt: 2024-06-09 18:01:26 -0400 (Sun, 09 Jun 2024) EllapsedTime: 72.2 seconds RetCode: 0 Status: OK PackageFile: RTopper_1.50.0.tar.gz PackageFileSize: 1.348 MiB