Package: RTopper Version: 1.50.0 Command: /home/biocbuild/R/R-beta-2024-04-15_r86425/bin/R CMD build --keep-empty-dirs --no-resave-data RTopper StartedAt: 2024-05-09 03:13:11 -0000 (Thu, 09 May 2024) EndedAt: 2024-05-09 03:14:27 -0000 (Thu, 09 May 2024) EllapsedTime: 76.1 seconds RetCode: 0 Status: OK PackageFile: RTopper_1.50.0.tar.gz PackageFileSize: 1.342 MiB