Package: RTopper Version: 1.50.0 Command: /Library/Frameworks/R.framework/Resources/bin/R CMD INSTALL RTopper StartedAt: 2024-06-09 17:02:08 -0400 (Sun, 09 Jun 2024) EndedAt: 2024-06-09 17:02:17 -0400 (Sun, 09 Jun 2024) EllapsedTime: 9.1 seconds RetCode: 0 Status: OK