Package: RTopper Version: 1.50.0 Maintainer: Luigi Marchionni MaintainerEmail: marchion at jhu.edu git_url: https://git.bioconductor.org/packages/RTopper git_branch: RELEASE_3_19 git_last_commit: d6e6de3 git_last_commit_date: 2024-04-30 10:25:28 -0400 (Tue, 30 Apr 2024)