Package: RTNsurvival Version: 1.28.0 Command: rm -rf RTNsurvival.buildbin-libdir && mkdir RTNsurvival.buildbin-libdir && F:\biocbuild\bbs-3.19-bioc\R\bin\R.exe CMD INSTALL --build --library=RTNsurvival.buildbin-libdir RTNsurvival_1.28.0.tar.gz StartedAt: 2024-06-27 08:50:24 -0400 (Thu, 27 Jun 2024) EndedAt: 2024-06-27 08:51:22 -0400 (Thu, 27 Jun 2024) EllapsedTime: 58.6 seconds RetCode: 0 Status: OK PackageFile: RTNsurvival_1.28.0.zip PackageFileSize: 951.8 KiB