Package: RTNsurvival Version: 1.28.0 Command: /home/biocbuild/bbs-3.19-bioc/R/bin/R CMD build --keep-empty-dirs --no-resave-data RTNsurvival StartedAt: 2024-10-16 20:34:13 -0400 (Wed, 16 Oct 2024) EndedAt: 2024-10-16 20:35:01 -0400 (Wed, 16 Oct 2024) EllapsedTime: 48.2 seconds RetCode: 0 Status: OK PackageFile: RTNsurvival_1.28.0.tar.gz PackageFileSize: 733 KiB