Package: RTNsurvival Version: 1.28.0 Command: /Library/Frameworks/R.framework/Resources/bin/R CMD check --install=check:RTNsurvival.install-out.txt --library=/Library/Frameworks/R.framework/Resources/library --no-vignettes --timings RTNsurvival_1.28.0.tar.gz StartedAt: 2024-10-17 12:18:28 -0400 (Thu, 17 Oct 2024) EndedAt: 2024-10-17 12:27:10 -0400 (Thu, 17 Oct 2024) EllapsedTime: 522.0 seconds RetCode: 0 Status: OK CheckDir: RTNsurvival.Rcheck Warnings: 0