Package: RTNsurvival Version: 1.28.0 Command: /Library/Frameworks/R.framework/Resources/bin/R CMD build --keep-empty-dirs --no-resave-data RTNsurvival StartedAt: 2024-10-16 22:47:46 -0400 (Wed, 16 Oct 2024) EndedAt: 2024-10-16 22:49:50 -0400 (Wed, 16 Oct 2024) EllapsedTime: 124.3 seconds RetCode: 0 Status: OK PackageFile: RTNsurvival_1.28.0.tar.gz PackageFileSize: 733 KiB