Package: RTNsurvival Version: 1.28.0 Command: /Library/Frameworks/R.framework/Resources/bin/R CMD build --keep-empty-dirs --no-resave-data RTNsurvival StartedAt: 2024-06-09 18:00:13 -0400 (Sun, 09 Jun 2024) EndedAt: 2024-06-09 18:01:06 -0400 (Sun, 09 Jun 2024) EllapsedTime: 52.8 seconds RetCode: 0 Status: OK PackageFile: RTNsurvival_1.28.0.tar.gz PackageFileSize: 732.9 KiB