Package: RTNsurvival Version: 1.28.0 Command: /Library/Frameworks/R.framework/Resources/bin/R CMD build --keep-empty-dirs --no-resave-data RTNsurvival StartedAt: 2024-06-10 03:50:36 -0400 (Mon, 10 Jun 2024) EndedAt: 2024-06-10 03:51:53 -0400 (Mon, 10 Jun 2024) EllapsedTime: 77.3 seconds RetCode: 0 Status: OK PackageFile: RTNsurvival_1.28.0.tar.gz PackageFileSize: 733.2 KiB