Package: RTNsurvival Version: 1.28.0 Command: rm -rf RTNsurvival.buildbin-libdir && mkdir RTNsurvival.buildbin-libdir && /Users/biocbuild/BBS/utils/build-universal.sh RTNsurvival_1.28.0.tar.gz /Library/Frameworks/R.framework/Resources/bin/R RTNsurvival.buildbin-libdir StartedAt: 2024-06-11 12:59:01 -0400 (Tue, 11 Jun 2024) EndedAt: 2024-06-11 13:00:08 -0400 (Tue, 11 Jun 2024) EllapsedTime: 66.7 seconds RetCode: 0 Status: OK PackageFile: RTNsurvival_1.28.0.tgz PackageFileSize: 947.6 KiB