Package: RTNsurvival Version: 1.28.0 Command: /Library/Frameworks/R.framework/Resources/bin/R CMD build --keep-empty-dirs --no-resave-data RTNsurvival StartedAt: 2024-10-17 08:06:26 -0400 (Thu, 17 Oct 2024) EndedAt: 2024-10-17 08:07:25 -0400 (Thu, 17 Oct 2024) EllapsedTime: 59.4 seconds RetCode: 0 Status: OK PackageFile: RTNsurvival_1.28.0.tar.gz PackageFileSize: 733.1 KiB