Package: RTNduals Version: 1.28.0 Command: /Library/Frameworks/R.framework/Resources/bin/R CMD build --keep-empty-dirs --no-resave-data RTNduals StartedAt: 2024-10-16 22:47:40 -0400 (Wed, 16 Oct 2024) EndedAt: 2024-10-16 22:51:07 -0400 (Wed, 16 Oct 2024) EllapsedTime: 206.6 seconds RetCode: 0 Status: OK PackageFile: RTNduals_1.28.0.tar.gz PackageFileSize: 584.4 KiB