Package: RTNduals Version: 1.28.0 Command: rm -rf RTNduals.buildbin-libdir && mkdir RTNduals.buildbin-libdir && /Users/biocbuild/BBS/utils/build-universal.sh RTNduals_1.28.0.tar.gz /Library/Frameworks/R.framework/Resources/bin/R RTNduals.buildbin-libdir StartedAt: 2024-10-17 17:04:13 -0400 (Thu, 17 Oct 2024) EndedAt: 2024-10-17 17:05:29 -0400 (Thu, 17 Oct 2024) EllapsedTime: 76.0 seconds RetCode: 0 Status: OK PackageFile: RTNduals_1.28.0.tgz PackageFileSize: 736.5 KiB