Package: RTNduals Version: 1.28.0 Command: /Library/Frameworks/R.framework/Resources/bin/R CMD build --keep-empty-dirs --no-resave-data RTNduals StartedAt: 2024-06-09 18:00:12 -0400 (Sun, 09 Jun 2024) EndedAt: 2024-06-09 18:01:41 -0400 (Sun, 09 Jun 2024) EllapsedTime: 89.1 seconds RetCode: 0 Status: OK PackageFile: RTNduals_1.28.0.tar.gz PackageFileSize: 584.3 KiB