Package: RTNduals Version: 1.28.0 Command: /Library/Frameworks/R.framework/Resources/bin/R CMD build --keep-empty-dirs --no-resave-data RTNduals StartedAt: 2024-06-10 03:50:34 -0400 (Mon, 10 Jun 2024) EndedAt: 2024-06-10 03:52:45 -0400 (Mon, 10 Jun 2024) EllapsedTime: 130.5 seconds RetCode: 0 Status: OK PackageFile: RTNduals_1.28.0.tar.gz PackageFileSize: 584.5 KiB