Package: RTN Version: 2.28.0 Command: chmod a+r RTN -R && E:\biocbuild\bbs-3.19-bioc\R\bin\R.exe CMD build --keep-empty-dirs --no-resave-data RTN StartedAt: 2024-10-16 21:38:52 -0400 (Wed, 16 Oct 2024) EndedAt: 2024-10-16 21:42:05 -0400 (Wed, 16 Oct 2024) EllapsedTime: 192.9 seconds RetCode: 0 Status: OK PackageFile: RTN_2.28.0.tar.gz PackageFileSize: 10.26 MiB