Package: RTN Version: 2.28.0 Command: F:\biocbuild\bbs-3.19-bioc\R\bin\R.exe CMD check --no-multiarch --install=check:RTN.install-out.txt --library=F:\biocbuild\bbs-3.19-bioc\R\library --no-vignettes --timings RTN_2.28.0.tar.gz StartedAt: 2024-06-27 05:40:06 -0400 (Thu, 27 Jun 2024) EndedAt: 2024-06-27 05:45:14 -0400 (Thu, 27 Jun 2024) EllapsedTime: 308.2 seconds RetCode: 0 Status: OK CheckDir: RTN.Rcheck Warnings: 0