Package: RTN Version: 2.28.0 Command: chmod a+r RTN -R && F:\biocbuild\bbs-3.19-bioc\R\bin\R.exe CMD build --keep-empty-dirs --no-resave-data RTN StartedAt: 2024-06-26 21:34:05 -0400 (Wed, 26 Jun 2024) EndedAt: 2024-06-26 21:36:50 -0400 (Wed, 26 Jun 2024) EllapsedTime: 164.9 seconds RetCode: 0 Status: OK PackageFile: RTN_2.28.0.tar.gz PackageFileSize: 10.26 MiB