Package: RTN Version: 2.28.0 Command: rm -rf RTN.buildbin-libdir && mkdir RTN.buildbin-libdir && F:\biocbuild\bbs-3.19-bioc\R\bin\R.exe CMD INSTALL --build --library=RTN.buildbin-libdir RTN_2.28.0.tar.gz StartedAt: 2024-06-27 08:50:20 -0400 (Thu, 27 Jun 2024) EndedAt: 2024-06-27 08:51:20 -0400 (Thu, 27 Jun 2024) EllapsedTime: 60.2 seconds RetCode: 0 Status: OK PackageFile: RTN_2.28.0.zip PackageFileSize: 10.21 MiB