Package: RTN Version: 2.28.0 Command: /home/biocbuild/bbs-3.19-bioc/R/bin/R CMD build --keep-empty-dirs --no-resave-data RTN StartedAt: 2024-10-16 20:33:54 -0400 (Wed, 16 Oct 2024) EndedAt: 2024-10-16 20:36:14 -0400 (Wed, 16 Oct 2024) EllapsedTime: 139.4 seconds RetCode: 0 Status: OK PackageFile: RTN_2.28.0.tar.gz PackageFileSize: 10.26 MiB