Package: RTN Version: 2.28.0 Command: /Library/Frameworks/R.framework/Resources/bin/R CMD INSTALL RTN StartedAt: 2024-10-16 16:40:50 -0400 (Wed, 16 Oct 2024) EndedAt: 2024-10-16 16:42:23 -0400 (Wed, 16 Oct 2024) EllapsedTime: 93.2 seconds RetCode: 0 Status: OK