Package: RTN Version: 2.28.0 Command: /Library/Frameworks/R.framework/Resources/bin/R CMD check --install=check:RTN.install-out.txt --library=/Library/Frameworks/R.framework/Resources/library --no-vignettes --timings RTN_2.28.0.tar.gz StartedAt: 2024-10-17 12:17:57 -0400 (Thu, 17 Oct 2024) EndedAt: 2024-10-17 12:28:16 -0400 (Thu, 17 Oct 2024) EllapsedTime: 619.0 seconds RetCode: 0 Status: OK CheckDir: RTN.Rcheck Warnings: 0