Package: RTN Version: 2.28.0 Command: /Library/Frameworks/R.framework/Resources/bin/R CMD build --keep-empty-dirs --no-resave-data RTN StartedAt: 2024-10-16 22:47:27 -0400 (Wed, 16 Oct 2024) EndedAt: 2024-10-16 22:53:54 -0400 (Wed, 16 Oct 2024) EllapsedTime: 387.9 seconds RetCode: 0 Status: OK PackageFile: RTN_2.28.0.tar.gz PackageFileSize: 10.26 MiB