Package: RTN Version: 2.28.0 Command: /Library/Frameworks/R.framework/Resources/bin/R CMD check --install=check:RTN.install-out.txt --library=/Library/Frameworks/R.framework/Resources/library --no-vignettes --timings RTN_2.28.0.tar.gz StartedAt: 2024-06-09 22:45:13 -0400 (Sun, 09 Jun 2024) EndedAt: 2024-06-09 22:49:51 -0400 (Sun, 09 Jun 2024) EllapsedTime: 277.6 seconds RetCode: 0 Status: OK CheckDir: RTN.Rcheck Warnings: 0