Package: RTN Version: 2.28.0 Command: rm -rf RTN.buildbin-libdir && mkdir RTN.buildbin-libdir && /Users/biocbuild/BBS/utils/build-universal.sh RTN_2.28.0.tar.gz /Library/Frameworks/R.framework/Resources/bin/R RTN.buildbin-libdir StartedAt: 2024-06-10 00:37:02 -0400 (Mon, 10 Jun 2024) EndedAt: 2024-06-10 00:37:57 -0400 (Mon, 10 Jun 2024) EllapsedTime: 55.2 seconds RetCode: 0 Status: OK PackageFile: RTN_2.28.0.tgz PackageFileSize: 10.21 MiB