Package: RTN Version: 2.28.0 Command: /home/biocbuild/R/R-beta-2024-04-15_r86425/bin/R CMD INSTALL RTN StartedAt: 2024-05-08 21:00:31 -0000 (Wed, 08 May 2024) EndedAt: 2024-05-08 21:01:22 -0000 (Wed, 08 May 2024) EllapsedTime: 51.0 seconds RetCode: 0 Status: OK